BEGIN:VCALENDAR
VERSION:2.0
PRODID:-//Imaginary Friends - ECPv6.15.14//NONSGML v1.0//EN
CALSCALE:GREGORIAN
METHOD:PUBLISH
X-ORIGINAL-URL:https://puppetfriends.com
X-WR-CALDESC:Events for Imaginary Friends
REFRESH-INTERVAL;VALUE=DURATION:PT1H
X-Robots-Tag:noindex
X-PUBLISHED-TTL:PT1H
BEGIN:VTIMEZONE
TZID:America/New_York
BEGIN:DAYLIGHT
TZOFFSETFROM:-0500
TZOFFSETTO:-0400
TZNAME:EDT
DTSTART:20230312T070000
END:DAYLIGHT
BEGIN:STANDARD
TZOFFSETFROM:-0400
TZOFFSETTO:-0500
TZNAME:EST
DTSTART:20231105T060000
END:STANDARD
BEGIN:DAYLIGHT
TZOFFSETFROM:-0500
TZOFFSETTO:-0400
TZNAME:EDT
DTSTART:20240310T070000
END:DAYLIGHT
BEGIN:STANDARD
TZOFFSETFROM:-0400
TZOFFSETTO:-0500
TZNAME:EST
DTSTART:20241103T060000
END:STANDARD
BEGIN:DAYLIGHT
TZOFFSETFROM:-0500
TZOFFSETTO:-0400
TZNAME:EDT
DTSTART:20250309T070000
END:DAYLIGHT
BEGIN:STANDARD
TZOFFSETFROM:-0400
TZOFFSETTO:-0500
TZNAME:EST
DTSTART:20251102T060000
END:STANDARD
END:VTIMEZONE
BEGIN:VEVENT
DTSTART;TZID=America/New_York:20241003T113000
DTEND;TZID=America/New_York:20241003T183000
DTSTAMP:20260421T071410
CREATED:20240912T162448Z
LAST-MODIFIED:20240912T162448Z
UID:2252-1727955000-1727980200@puppetfriends.com
SUMMARY:Trick-or-Treat Party!
DESCRIPTION:Each show has a running time of 15-25 minutes. Doors open 20 minutes prior to each showtime. Please be prompt. Late seating may not be permitted.\nPurchase your tickets below to your preferred showtime and experience the magic of Imaginary Friends live!\nFor Sunday shows\, please use Walnut Street entrance.
URL:https://puppetfriends.com/event/trick-or-treat-party10324/
LOCATION:Strawberry Square Theater\, 320 Market St\, Harrisburg\, PA\, 17101\, United States
ATTACH;FMTTYPE=image/jpeg:https://puppetfriends.com/wp-content/uploads/2024/05/015_dsc_9335_copy-scaled.jpg
ORGANIZER;CN="Imaginary Friends":MAILTO:info@puppetfriends.com
END:VEVENT
BEGIN:VEVENT
DTSTART;TZID=America/New_York:20241005T103000
DTEND;TZID=America/New_York:20241005T173000
DTSTAMP:20260421T071410
CREATED:20240912T163550Z
LAST-MODIFIED:20241005T142926Z
UID:2264-1728124200-1728149400@puppetfriends.com
SUMMARY:Trick-or-Treat Party!
DESCRIPTION:Each show has a running time of 15-25 minutes. Doors open 20 minutes prior to each showtime. Please be prompt. Late seating may not be permitted.\nPurchase your tickets below to your preferred showtime and experience the magic of Imaginary Friends live!\nFor Sunday shows\, please use Walnut Street entrance.
URL:https://puppetfriends.com/event/trick-or-treat-party10524/
LOCATION:Strawberry Square Theater\, 320 Market St\, Harrisburg\, PA\, 17101\, United States
ATTACH;FMTTYPE=image/jpeg:https://puppetfriends.com/wp-content/uploads/2024/05/015_dsc_9335_copy-scaled.jpg
ORGANIZER;CN="Imaginary Friends":MAILTO:info@puppetfriends.com
END:VEVENT
BEGIN:VEVENT
DTSTART;TZID=America/New_York:20241010T113000
DTEND;TZID=America/New_York:20241010T183000
DTSTAMP:20260421T071410
CREATED:20240912T171111Z
LAST-MODIFIED:20240912T171111Z
UID:2282-1728559800-1728585000@puppetfriends.com
SUMMARY:Trick-or-Treat Party!
DESCRIPTION:Each show has a running time of 15-25 minutes. Doors open 20 minutes prior to each showtime. Please be prompt. Late seating may not be permitted.\nPurchase your tickets below to your preferred showtime and experience the magic of Imaginary Friends live!\nFor Sunday shows\, please use Walnut Street entrance.
URL:https://puppetfriends.com/event/trick-or-treat-party101024/
LOCATION:Strawberry Square Theater\, 320 Market St\, Harrisburg\, PA\, 17101\, United States
ATTACH;FMTTYPE=image/jpeg:https://puppetfriends.com/wp-content/uploads/2024/05/015_dsc_9335_copy-scaled.jpg
ORGANIZER;CN="Imaginary Friends":MAILTO:info@puppetfriends.com
END:VEVENT
BEGIN:VEVENT
DTSTART;TZID=America/New_York:20241011T113000
DTEND;TZID=America/New_York:20241011T183000
DTSTAMP:20260421T071410
CREATED:20240912T165505Z
LAST-MODIFIED:20241011T213727Z
UID:2270-1728646200-1728671400@puppetfriends.com
SUMMARY:Trick-or-Treat Party!
DESCRIPTION:Each show has a running time of 15-25 minutes. Doors open 20 minutes prior to each showtime. Please be prompt. Late seating may not be permitted.\nPurchase your tickets below to your preferred showtime and experience the magic of Imaginary Friends live!\nFor Sunday shows\, please use Walnut Street entrance.
URL:https://puppetfriends.com/event/trick-or-treat-party101124/
LOCATION:Strawberry Square Theater\, 320 Market St\, Harrisburg\, PA\, 17101\, United States
ATTACH;FMTTYPE=image/jpeg:https://puppetfriends.com/wp-content/uploads/2024/05/015_dsc_9335_copy-scaled.jpg
ORGANIZER;CN="Imaginary Friends":MAILTO:info@puppetfriends.com
END:VEVENT
BEGIN:VEVENT
DTSTART;TZID=America/New_York:20241012T113000
DTEND;TZID=America/New_York:20241012T183000
DTSTAMP:20260421T071410
CREATED:20240912T170411Z
LAST-MODIFIED:20240912T170411Z
UID:2276-1728732600-1728757800@puppetfriends.com
SUMMARY:Trick-or-Treat Party!
DESCRIPTION:Each show has a running time of 15-25 minutes. Doors open 20 minutes prior to each showtime. Please be prompt. Late seating may not be permitted.\nPurchase your tickets below to your preferred showtime and experience the magic of Imaginary Friends live!\nFor Sunday shows\, please use Walnut Street entrance.
URL:https://puppetfriends.com/event/trick-or-treat-party101224/
LOCATION:Strawberry Square Theater\, 320 Market St\, Harrisburg\, PA\, 17101\, United States
ATTACH;FMTTYPE=image/jpeg:https://puppetfriends.com/wp-content/uploads/2024/05/015_dsc_9335_copy-scaled.jpg
ORGANIZER;CN="Imaginary Friends":MAILTO:info@puppetfriends.com
END:VEVENT
BEGIN:VEVENT
DTSTART;TZID=America/New_York:20241017T113000
DTEND;TZID=America/New_York:20241017T183000
DTSTAMP:20260421T071410
CREATED:20240912T171916Z
LAST-MODIFIED:20240912T171916Z
UID:2288-1729164600-1729189800@puppetfriends.com
SUMMARY:Trick-or-Treat Party!
DESCRIPTION:Each show has a running time of 15-25 minutes. Doors open 20 minutes prior to each showtime. Please be prompt. Late seating may not be permitted.\nPurchase your tickets below to your preferred showtime and experience the magic of Imaginary Friends live!\nFor Sunday shows\, please use Walnut Street entrance.
URL:https://puppetfriends.com/event/trick-or-treat-party101724/
LOCATION:Strawberry Square Theater\, 320 Market St\, Harrisburg\, PA\, 17101\, United States
ATTACH;FMTTYPE=image/jpeg:https://puppetfriends.com/wp-content/uploads/2024/05/015_dsc_9335_copy-scaled.jpg
ORGANIZER;CN="Imaginary Friends":MAILTO:info@puppetfriends.com
END:VEVENT
BEGIN:VEVENT
DTSTART;TZID=America/New_York:20241018T113000
DTEND;TZID=America/New_York:20241018T183000
DTSTAMP:20260421T071410
CREATED:20240912T173124Z
LAST-MODIFIED:20240912T173124Z
UID:2294-1729251000-1729276200@puppetfriends.com
SUMMARY:Trick-or-Treat Party!
DESCRIPTION:Each show has a running time of 15-25 minutes. Doors open 20 minutes prior to each showtime. Please be prompt. Late seating may not be permitted.\nPurchase your tickets below to your preferred showtime and experience the magic of Imaginary Friends live!\nFor Sunday shows\, please use Walnut Street entrance.
URL:https://puppetfriends.com/event/trick-or-treat-party101824/
LOCATION:Strawberry Square Theater\, 320 Market St\, Harrisburg\, PA\, 17101\, United States
ATTACH;FMTTYPE=image/jpeg:https://puppetfriends.com/wp-content/uploads/2024/05/015_dsc_9335_copy-scaled.jpg
ORGANIZER;CN="Imaginary Friends":MAILTO:info@puppetfriends.com
END:VEVENT
BEGIN:VEVENT
DTSTART;TZID=America/New_York:20241019T103000
DTEND;TZID=America/New_York:20241019T173000
DTSTAMP:20260421T071410
CREATED:20240912T173613Z
LAST-MODIFIED:20240912T173613Z
UID:2300-1729333800-1729359000@puppetfriends.com
SUMMARY:Trick-or-Treat Party!
DESCRIPTION:Each show has a running time of 15-25 minutes. Doors open 20 minutes prior to each showtime. Please be prompt. Late seating may not be permitted.\nPurchase your tickets below to your preferred showtime and experience the magic of Imaginary Friends live!\nFor Sunday shows\, please use Walnut Street entrance.
URL:https://puppetfriends.com/event/trick-or-treat-party101924/
LOCATION:Strawberry Square Theater\, 320 Market St\, Harrisburg\, PA\, 17101\, United States
ATTACH;FMTTYPE=image/jpeg:https://puppetfriends.com/wp-content/uploads/2024/05/015_dsc_9335_copy-scaled.jpg
ORGANIZER;CN="Imaginary Friends":MAILTO:info@puppetfriends.com
END:VEVENT
BEGIN:VEVENT
DTSTART;TZID=America/New_York:20241019T150000
DTEND;TZID=America/New_York:20241019T180000
DTSTAMP:20260421T071410
CREATED:20241016T164308Z
LAST-MODIFIED:20241016T164308Z
UID:2362-1729350000-1729360800@puppetfriends.com
SUMMARY:CLOSED for Private Event
DESCRIPTION:Imaginary Friends will be closed from 3-6pm for a private event.  We will still have our 11:00 and 1:00 shows.
URL:https://puppetfriends.com/event/closed-for-private-event101624/
LOCATION:Strawberry Square Theater\, 320 Market St\, Harrisburg\, PA\, 17101\, United States
ATTACH;FMTTYPE=image/webp:https://puppetfriends.com/wp-content/uploads/2024/04/0_0-2.webp
ORGANIZER;CN="Imaginary Friends":MAILTO:info@puppetfriends.com
END:VEVENT
BEGIN:VEVENT
DTSTART;TZID=America/New_York:20241024T113000
DTEND;TZID=America/New_York:20241024T183000
DTSTAMP:20260421T071410
CREATED:20240912T174205Z
LAST-MODIFIED:20240912T174205Z
UID:2306-1729769400-1729794600@puppetfriends.com
SUMMARY:Trick-or-Treat Party!
DESCRIPTION:Each show has a running time of 15-25 minutes. Doors open 20 minutes prior to each showtime. Please be prompt. Late seating may not be permitted.\nPurchase your tickets below to your preferred showtime and experience the magic of Imaginary Friends live!\nFor Sunday shows\, please use Walnut Street entrance.
URL:https://puppetfriends.com/event/trick-or-treat-party102424/
LOCATION:Strawberry Square Theater\, 320 Market St\, Harrisburg\, PA\, 17101\, United States
ATTACH;FMTTYPE=image/jpeg:https://puppetfriends.com/wp-content/uploads/2024/05/015_dsc_9335_copy-scaled.jpg
ORGANIZER;CN="Imaginary Friends":MAILTO:info@puppetfriends.com
END:VEVENT
BEGIN:VEVENT
DTSTART;TZID=America/New_York:20241025T113000
DTEND;TZID=America/New_York:20241025T183000
DTSTAMP:20260421T071410
CREATED:20240912T175308Z
LAST-MODIFIED:20240912T175308Z
UID:2312-1729855800-1729881000@puppetfriends.com
SUMMARY:Trick-or-Treat Party!
DESCRIPTION:Each show has a running time of 15-25 minutes. Doors open 20 minutes prior to each showtime. Please be prompt. Late seating may not be permitted.\nPurchase your tickets below to your preferred showtime and experience the magic of Imaginary Friends live!\nFor Sunday shows\, please use Walnut Street entrance.
URL:https://puppetfriends.com/event/trick-or-treat-party102524/
LOCATION:Strawberry Square Theater\, 320 Market St\, Harrisburg\, PA\, 17101\, United States
ATTACH;FMTTYPE=image/jpeg:https://puppetfriends.com/wp-content/uploads/2024/05/015_dsc_9335_copy-scaled.jpg
ORGANIZER;CN="Imaginary Friends":MAILTO:info@puppetfriends.com
END:VEVENT
BEGIN:VEVENT
DTSTART;TZID=America/New_York:20241026T103000
DTEND;TZID=America/New_York:20241026T173000
DTSTAMP:20260421T071410
CREATED:20240912T175937Z
LAST-MODIFIED:20240912T175937Z
UID:2318-1729938600-1729963800@puppetfriends.com
SUMMARY:Trick-or-Treat Party!
DESCRIPTION:Each show has a running time of 15-25 minutes. Doors open 20 minutes prior to each showtime. Please be prompt. Late seating may not be permitted.\nPurchase your tickets below to your preferred showtime and experience the magic of Imaginary Friends live!\nFor Sunday shows\, please use Walnut Street entrance.
URL:https://puppetfriends.com/event/trick-or-treat-party102624/
LOCATION:Strawberry Square Theater\, 320 Market St\, Harrisburg\, PA\, 17101\, United States
ATTACH;FMTTYPE=image/jpeg:https://puppetfriends.com/wp-content/uploads/2024/05/015_dsc_9335_copy-scaled.jpg
ORGANIZER;CN="Imaginary Friends":MAILTO:info@puppetfriends.com
END:VEVENT
BEGIN:VEVENT
DTSTART;TZID=America/New_York:20241031T113000
DTEND;TZID=America/New_York:20241031T183000
DTSTAMP:20260421T071410
CREATED:20240912T181343Z
LAST-MODIFIED:20240912T181343Z
UID:2324-1730374200-1730399400@puppetfriends.com
SUMMARY:Trick-or-Treat Party!
DESCRIPTION:Each show has a running time of 15-25 minutes. Doors open 20 minutes prior to each showtime. Please be prompt. Late seating may not be permitted.\nPurchase your tickets below to your preferred showtime and experience the magic of Imaginary Friends live!\nFor Sunday shows\, please use Walnut Street entrance.
URL:https://puppetfriends.com/event/trick-or-treat-party103124/
LOCATION:Strawberry Square Theater\, 320 Market St\, Harrisburg\, PA\, 17101\, United States
ATTACH;FMTTYPE=image/jpeg:https://puppetfriends.com/wp-content/uploads/2024/05/015_dsc_9335_copy-scaled.jpg
ORGANIZER;CN="Imaginary Friends":MAILTO:info@puppetfriends.com
END:VEVENT
END:VCALENDAR